BEGIN:VCALENDAR
VERSION:2.0
PRODID:-//Health Sciences Libraries Group - ECPv6.15.20//NONSGML v1.0//EN
CALSCALE:GREGORIAN
METHOD:PUBLISH
X-WR-CALNAME:Health Sciences Libraries Group
X-ORIGINAL-URL:https://hslg.ie
X-WR-CALDESC:Events for Health Sciences Libraries Group
REFRESH-INTERVAL;VALUE=DURATION:PT1H
X-Robots-Tag:noindex
X-PUBLISHED-TTL:PT1H
BEGIN:VTIMEZONE
TZID:Europe/Dublin
BEGIN:STANDARD
TZOFFSETFROM:+0000
TZOFFSETTO:+0100
TZNAME:IST
DTSTART:20240331T010000
END:STANDARD
BEGIN:DAYLIGHT
TZOFFSETFROM:+0100
TZOFFSETTO:+0000
TZNAME:GMT
DTSTART:20241027T010000
END:DAYLIGHT
BEGIN:STANDARD
TZOFFSETFROM:+0000
TZOFFSETTO:+0100
TZNAME:IST
DTSTART:20250330T010000
END:STANDARD
BEGIN:DAYLIGHT
TZOFFSETFROM:+0100
TZOFFSETTO:+0000
TZNAME:GMT
DTSTART:20251026T010000
END:DAYLIGHT
BEGIN:STANDARD
TZOFFSETFROM:+0000
TZOFFSETTO:+0100
TZNAME:IST
DTSTART:20260329T010000
END:STANDARD
BEGIN:DAYLIGHT
TZOFFSETFROM:+0100
TZOFFSETTO:+0000
TZNAME:GMT
DTSTART:20261025T010000
END:DAYLIGHT
END:VTIMEZONE
BEGIN:VEVENT
DTSTART;TZID=Europe/Dublin:20250929T090000
DTEND;TZID=Europe/Dublin:20251007T170000
DTSTAMP:20260421T094939
CREATED:20250709T085855Z
LAST-MODIFIED:20250709T104813Z
UID:4819-1759136400-1759856400@hslg.ie
SUMMARY:JBI: Comprehensive Systematic Review Training Programme (CSRTP)
DESCRIPTION:5-day interactive training programme which enables participants to develop the knowledge and skills required to conduct and publish a JBI protocol and systematic review on a topic relevant to their area of practice. \n\nDelivered by JBI accredited trainers experienced in systematic reviews\, evidence-based practice and healthcare research.\nDelivered online through Microsoft Teams\nSmall group training delivered\nComprehensive course materials\n1 year JBI software license subscription\n\nCourse Dates: 29th & 30th September\, 1st\, 6th and 7th October 2025 \n  \nModule 1 : Introduction to evidence-based healthcare and protocol development (1 Day) \nModule 2 : Systematic review of evidence generated by quantitative research\, including meta-analysis (2 Days) \nModule 3 : Systematic review of evidence generated through qualitative research\, narrative and text\, including meta-synthesis (2 Days) \nClick here for more information \n 
URL:https://hslg.ie/event/jbi-comprehensive-systematic-review-training-programme-csrtp/
LOCATION:Online
CATEGORIES:Information needs and user services,Research and innovation
ATTACH;FMTTYPE=image/png:https://hslg.ie/wp-content/uploads/2025/07/download.png
END:VEVENT
BEGIN:VEVENT
DTSTART;TZID=Europe/Dublin:20251001T190000
DTEND;TZID=Europe/Dublin:20251001T200000
DTSTAMP:20260421T094939
CREATED:20250926T144051Z
LAST-MODIFIED:20250926T144441Z
UID:4984-1759345200-1759348800@hslg.ie
SUMMARY:Addressing Research and Writing Challenges With the APA Style Manual
DESCRIPTION:In this webinar APA Style experts will discuss how librarians can use APA Style to tackle some of the challenges in supporting students with research and writing in the current social and technological environment. The new APA Style Manual will be discussed which can provide APA Style guidance to all students\, updates to AI guidance\, and best practices for supporting academic writing in a world with AI and misinformation. \n  \nRegister here for this webinar
URL:https://hslg.ie/event/addressing-research-and-writing-challenges-with-the-apa-style-manual/
LOCATION:Online
CATEGORIES:Artificial Intelligence (AI),Information needs and user services,Information resources management,Research and innovation
ATTACH;FMTTYPE=image/jpeg:https://hslg.ie/wp-content/uploads/2025/09/american-libraries-magazine-logo.jpeg
END:VEVENT
END:VCALENDAR