BEGIN:VCALENDAR
VERSION:2.0
PRODID:-//Health Sciences Libraries Group - ECPv6.15.20//NONSGML v1.0//EN
CALSCALE:GREGORIAN
METHOD:PUBLISH
X-ORIGINAL-URL:https://hslg.ie
X-WR-CALDESC:Events for Health Sciences Libraries Group
REFRESH-INTERVAL;VALUE=DURATION:PT1H
X-Robots-Tag:noindex
X-PUBLISHED-TTL:PT1H
BEGIN:VTIMEZONE
TZID:Europe/Dublin
BEGIN:STANDARD
TZOFFSETFROM:+0000
TZOFFSETTO:+0100
TZNAME:IST
DTSTART:20250330T010000
END:STANDARD
BEGIN:DAYLIGHT
TZOFFSETFROM:+0100
TZOFFSETTO:+0000
TZNAME:GMT
DTSTART:20251026T010000
END:DAYLIGHT
BEGIN:STANDARD
TZOFFSETFROM:+0000
TZOFFSETTO:+0100
TZNAME:IST
DTSTART:20260329T010000
END:STANDARD
BEGIN:DAYLIGHT
TZOFFSETFROM:+0100
TZOFFSETTO:+0000
TZNAME:GMT
DTSTART:20261025T010000
END:DAYLIGHT
BEGIN:STANDARD
TZOFFSETFROM:+0000
TZOFFSETTO:+0100
TZNAME:IST
DTSTART:20270328T010000
END:STANDARD
BEGIN:DAYLIGHT
TZOFFSETFROM:+0100
TZOFFSETTO:+0000
TZNAME:GMT
DTSTART:20271031T010000
END:DAYLIGHT
END:VTIMEZONE
BEGIN:VEVENT
DTSTART;TZID=Europe/Dublin:20260422T091500
DTEND;TZID=Europe/Dublin:20260423T123000
DTSTAMP:20260421T125635
CREATED:20260401T144359Z
LAST-MODIFIED:20260401T144359Z
UID:5523-1776849300-1776947400@hslg.ie
SUMMARY:Search Lightning – The 2026 UHMLG Spring Forum
DESCRIPTION:This review is automatic\, systematic\, hydromatic!\nThe 2026 UHMLG Spring Forum will once again bring together a fantasic line-up of speakers from around the UK\, across two half-days 22-23 April. There are a total of six talks on the overall theme of systematic reviews – some of which do\, of course\, discuss the use of AI in systematic reviews… but the focus is very much on the practical implementation\, not on generalities or background. \nBook your place at this link \nSchedule\nWednesday 22 April\n\n09.15: Forum opens\n09.20: Welcome and introductions\n09.30: Isla Kuhn\, Head of Medical Library services\, University of Cambridge: The Medical Student Systematic Review Group at Cambridge University.\n10.20: Break\n10.30: Pip Divall\, Clinical Librarian Service Manager\, University Hospitals of Leicester NHS Trust: Experiences of UK based health librarians collaborating with clinical research staff on systematic reviews and associated authorship.\n11.20: Break\n11.40: Lightning Talk: Manfred Gschwandtner\, Librarian\, Kent and Medway Medical School (KMMS): Examining Learning Resources Used by Year 5 Medical Students for UKMLA Preparation: A Descriptive Case Study\n11.50 Carolyn Smith\, Horton Library Manager and Outreach Librarian\, Bodleian Libraries\, University of Oxford: Systematic review searching – what does being a co-author involve\n12.40: Closing remarks\n\nThursday 23 April\n\n09.15: Forum opens\n09.20: Welcome and introductions\n09.30: Charis Wong\, Clinical Fellow in Data-Driven Drug Selection and Consultant Neurologist\, University of Edinburgh: AI-enabled systematic review platforms: how well do they perform?\n10.20: Break\n10.30: A presentation from the RAISE project: Working towards the responsible use of AI in evidence synthesis: The RAISE project\n11.20: Break\n11.40: John Barbrook\, Faculty Librarian\, Lancaster University: AI Methods within systematic review search strategies\n12.30: Closing remarks\n\nTickets\nThis year\, to ensure the continuation of UHMLG’s activities in the absence of a Summer Conference\, we do need to charge a small fee for tickets: \n\n£25 for one person\, one day\n£40 for one person\, both days\n£100 for an organisation ticket: multiple staff can view both days\, and the conference can be streamed in a shared space
URL:https://hslg.ie/event/search-lightning-the-2026-uhmlg-spring-forum/
LOCATION:Online
CATEGORIES:Artificial Intelligence (AI),Information resources management,Research and innovation
ATTACH;FMTTYPE=image/png:https://hslg.ie/wp-content/uploads/2026/04/Search-lightening_logo.png
END:VEVENT
BEGIN:VEVENT
DTSTART;VALUE=DATE:20260608
DTEND;VALUE=DATE:20260613
DTSTAMP:20260421T125635
CREATED:20251017T083528Z
LAST-MODIFIED:20251201T114240Z
UID:5066-1780876800-1781308799@hslg.ie
SUMMARY:EAHIL 2026 Conference
DESCRIPTION:Bridges to New Horizons: Innovations in Health Information and Medical Libraries \n8 – 12 June 2026\, Antalya\, Turkey \nUnder the theme Bridging Horizons\, the conference will explore how emerging technologies\, ethical practices\, and collaborative partnerships are transforming medical libraries and health information systems worldwide. \nRegister to attend here. \nInformation on conference theme and subtheme here. \nKey Deadlines \n\nCall for Papers Opens: 15  September 2025\nAbstract Submission Deadline: 14 November 2025\nNotification of Acceptance: 15 December 2025\nEarly Registration Opens: 1 December 2025\nEarly Registration Closes: 8 May 2026\nPreliminary Programme Release: March 2026
URL:https://hslg.ie/event/eahil-2026-conference/
CATEGORIES:Artificial Intelligence (AI),Information and communication technologies,Information in society and health care,Information needs and user services,Information resources management
ATTACH;FMTTYPE=image/png:https://hslg.ie/wp-content/uploads/2024/09/Eahil-Logo.png
END:VEVENT
BEGIN:VEVENT
DTSTART;VALUE=DATE:20261021
DTEND;VALUE=DATE:20261025
DTSTAMP:20260421T125635
CREATED:20250808T093317Z
LAST-MODIFIED:20250808T094755Z
UID:4873-1792540800-1792886399@hslg.ie
SUMMARY:The Ecosystem of Evidence
DESCRIPTION:The Ecosystem of Evidence: Navigating the future of the ecosystem of evidence                                                                                                                                                       \n11th EBHC International Conference\, joint meeting with the 11th Conference of the International Society for Evidence-Based Health Care \n21st – 24th October 2026\, Taormina\, Sicily\, Italy \nThis conference will delve into groundbreaking themes such as artificial intelligence (AI) and digital transformation in research\, clinical practice\, and healthcare service delivery. \nRegistration opens 7th May 2025 \nhttps://www.ebhcconference.org/  \n 
URL:https://hslg.ie/event/the-ecosystem-of-evidence/
LOCATION:Hotel Caparena\, Taormina\, Sicily\, Via Nazionale 189 - 98039\, Taormina\, Sicily\, Italy
CATEGORIES:Artificial Intelligence (AI),Research and innovation
ATTACH;FMTTYPE=image/jpeg:https://hslg.ie/wp-content/uploads/2025/08/EBHC.jpeg
END:VEVENT
END:VCALENDAR