BEGIN:VCALENDAR
VERSION:2.0
PRODID:-//Health Sciences Libraries Group - ECPv6.15.20//NONSGML v1.0//EN
CALSCALE:GREGORIAN
METHOD:PUBLISH
X-ORIGINAL-URL:https://hslg.ie
X-WR-CALDESC:Events for Health Sciences Libraries Group
REFRESH-INTERVAL;VALUE=DURATION:PT1H
X-Robots-Tag:noindex
X-PUBLISHED-TTL:PT1H
BEGIN:VTIMEZONE
TZID:Europe/Dublin
BEGIN:STANDARD
TZOFFSETFROM:+0000
TZOFFSETTO:+0100
TZNAME:IST
DTSTART:20250330T010000
END:STANDARD
BEGIN:DAYLIGHT
TZOFFSETFROM:+0100
TZOFFSETTO:+0000
TZNAME:GMT
DTSTART:20251026T010000
END:DAYLIGHT
BEGIN:STANDARD
TZOFFSETFROM:+0000
TZOFFSETTO:+0100
TZNAME:IST
DTSTART:20260329T010000
END:STANDARD
BEGIN:DAYLIGHT
TZOFFSETFROM:+0100
TZOFFSETTO:+0000
TZNAME:GMT
DTSTART:20261025T010000
END:DAYLIGHT
BEGIN:STANDARD
TZOFFSETFROM:+0000
TZOFFSETTO:+0100
TZNAME:IST
DTSTART:20270328T010000
END:STANDARD
BEGIN:DAYLIGHT
TZOFFSETFROM:+0100
TZOFFSETTO:+0000
TZNAME:GMT
DTSTART:20271031T010000
END:DAYLIGHT
END:VTIMEZONE
BEGIN:VEVENT
DTSTART;TZID=Europe/Dublin:20260204T150000
DTEND;TZID=Europe/Dublin:20260225T160000
DTSTAMP:20260423T150144
CREATED:20260216T085312Z
LAST-MODIFIED:20260216T085424Z
UID:5376-1770217200-1772035200@hslg.ie
SUMMARY:Shut Up & Write
DESCRIPTION:Join LAI Munster for one or all Wednesday afternoons in February 2026 from 3-4pm to Shut Up & Write. \nIt can be hard to find the time to work without distractions on your CPD. Join LAI Munster on Teams for one or all four Wednesdays in Februrary where you give yourself the quiet time to work on LAI Awards applications: Associateship\, Senior Associateship and Fellowship or any other CPD. \nAdvanced registration is required.  Each session is free and open to LAIM/LAI members. \nRegister through Eventbrite. \n3-4pm Wednesday 4\, 11\, 18\, and 25 February
URL:https://hslg.ie/event/shut-up-write/
LOCATION:Online
CATEGORIES:Management for information professionals
ATTACH;FMTTYPE=image/jpeg:https://hslg.ie/wp-content/uploads/2026/02/image.jpeg
ORGANIZER;CN="LAI Munster":MAILTO:laimunster@gmail.com
END:VEVENT
END:VCALENDAR