BEGIN:VCALENDAR
VERSION:2.0
PRODID:-//Health Sciences Libraries Group - ECPv6.15.20//NONSGML v1.0//EN
CALSCALE:GREGORIAN
METHOD:PUBLISH
X-ORIGINAL-URL:https://hslg.ie
X-WR-CALDESC:Events for Health Sciences Libraries Group
REFRESH-INTERVAL;VALUE=DURATION:PT1H
X-Robots-Tag:noindex
X-PUBLISHED-TTL:PT1H
BEGIN:VTIMEZONE
TZID:Europe/Dublin
BEGIN:STANDARD
TZOFFSETFROM:+0000
TZOFFSETTO:+0100
TZNAME:IST
DTSTART:20250330T010000
END:STANDARD
BEGIN:DAYLIGHT
TZOFFSETFROM:+0100
TZOFFSETTO:+0000
TZNAME:GMT
DTSTART:20251026T010000
END:DAYLIGHT
BEGIN:STANDARD
TZOFFSETFROM:+0000
TZOFFSETTO:+0100
TZNAME:IST
DTSTART:20260329T010000
END:STANDARD
BEGIN:DAYLIGHT
TZOFFSETFROM:+0100
TZOFFSETTO:+0000
TZNAME:GMT
DTSTART:20261025T010000
END:DAYLIGHT
BEGIN:STANDARD
TZOFFSETFROM:+0000
TZOFFSETTO:+0100
TZNAME:IST
DTSTART:20270328T010000
END:STANDARD
BEGIN:DAYLIGHT
TZOFFSETFROM:+0100
TZOFFSETTO:+0000
TZNAME:GMT
DTSTART:20271031T010000
END:DAYLIGHT
END:VTIMEZONE
BEGIN:VEVENT
DTSTART;VALUE=DATE:20260506
DTEND;VALUE=DATE:20260509
DTSTAMP:20260423T113249
CREATED:20260116T151003Z
LAST-MODIFIED:20260116T151003Z
UID:5274-1778025600-1778284799@hslg.ie
SUMMARY:LIBER Architecture Group Seminar 2026
DESCRIPTION:For the first time the LIBER Architecture Group Seminar will take place in Ireland! \nThis event is where librarians\, architects\, designers\, and developers will come together to explore the future of library buildings. Under the theme “Invest – Involve – Inspire: Shaping the next generation of Library Buildings” . \nLocation: East Quad\, Grangegorman Campus\, Technological University Dublin. \nThis event will feature keynote talks\, workshops\, panel discussions\, and guided library visits inlcuding the new Academic Hub library building at Technological University Dublin. \nRegister to attend on EventBrite. \nFor more information see here. \n 
URL:https://hslg.ie/event/liber-architecture-group-seminar-2026/
LOCATION:Technological University Dublin\, Dublin\, D07 H6K8\, Ireland
CATEGORIES:Information resources management,Management for information professionals
ATTACH;FMTTYPE=image/png:https://hslg.ie/wp-content/uploads/2026/01/LIBER-Logo.png
END:VEVENT
END:VCALENDAR