BEGIN:VCALENDAR
VERSION:2.0
PRODID:-//Health Sciences Libraries Group - ECPv6.15.20//NONSGML v1.0//EN
CALSCALE:GREGORIAN
METHOD:PUBLISH
X-WR-CALNAME:Health Sciences Libraries Group
X-ORIGINAL-URL:https://hslg.ie
X-WR-CALDESC:Events for Health Sciences Libraries Group
REFRESH-INTERVAL;VALUE=DURATION:PT1H
X-Robots-Tag:noindex
X-PUBLISHED-TTL:PT1H
BEGIN:VTIMEZONE
TZID:Europe/Dublin
BEGIN:STANDARD
TZOFFSETFROM:+0000
TZOFFSETTO:+0100
TZNAME:IST
DTSTART:20220327T010000
END:STANDARD
BEGIN:DAYLIGHT
TZOFFSETFROM:+0100
TZOFFSETTO:+0000
TZNAME:GMT
DTSTART:20221030T010000
END:DAYLIGHT
BEGIN:STANDARD
TZOFFSETFROM:+0000
TZOFFSETTO:+0100
TZNAME:IST
DTSTART:20230326T010000
END:STANDARD
BEGIN:DAYLIGHT
TZOFFSETFROM:+0100
TZOFFSETTO:+0000
TZNAME:GMT
DTSTART:20231029T010000
END:DAYLIGHT
BEGIN:STANDARD
TZOFFSETFROM:+0000
TZOFFSETTO:+0100
TZNAME:IST
DTSTART:20240331T010000
END:STANDARD
BEGIN:DAYLIGHT
TZOFFSETFROM:+0100
TZOFFSETTO:+0000
TZNAME:GMT
DTSTART:20241027T010000
END:DAYLIGHT
END:VTIMEZONE
BEGIN:VEVENT
DTSTART;TZID=Europe/Dublin:20231123T110000
DTEND;TZID=Europe/Dublin:20231123T120000
DTSTAMP:20260425T120023
CREATED:20230803T135518Z
LAST-MODIFIED:20230807T142516Z
UID:3122-1700737200-1700740800@hslg.ie
SUMMARY:HSLG AGM 2023
DESCRIPTION:HSLG members are invited to join the HSLG committee for our online AGM 2023. \nMore details to follow shortly.
URL:https://hslg.ie/event/hslg-agm-2023/
LOCATION:Online
CATEGORIES:Foundations of LIS profession
ATTACH;FMTTYPE=image/jpeg:https://hslg.ie/wp-content/uploads/2023/06/HSLG_Logo_Med.jpg
ORGANIZER;CN="HSLG":MAILTO:contacthslg@gmail.com
END:VEVENT
BEGIN:VEVENT
DTSTART;VALUE=DATE:20231110
DTEND;VALUE=DATE:20231111
DTSTAMP:20260425T120023
CREATED:20230823T134434Z
LAST-MODIFIED:20230823T134434Z
UID:3181-1699574400-1699660799@hslg.ie
SUMMARY:Libraries Rewired Conference
DESCRIPTION:CILIP is delighted to announce a new conference dedicated to exploring digital transformation in our sector\, taking place in London in November. \nThis one-day event is designed to connect tech-curious colleagues\, solutions providers and thought-leaders on all things digital. Our aim? To explore and encourage innovation in our sector\, and to have a play with what’s on offer! \nThe programme will explore data\, AI\, digital creativity\, library technology\, digital rights and the skills\, leadership and change management processes required to keep pace with fast-moving developments in the digital landscape. \nCentral to the event is our Digital Solutions Lab; a space where delegates can get their hands on – and have tactile ‘play time’ with – a range of digital platforms and AI-powered solutions\, and chat with experts and suppliers\, all in one place. \nThis is not just ‘another conference’ though. In a nod to our tech district setting\, we’ll be weaving through an element of hackathon-esque provocations to our invited suppliers\, asking how they are responding to the fast-paced challenges and opportunities in a time of AI\, VR and web3. And you\, as a delegate\, will be invited to explore their musings.
URL:https://hslg.ie/event/libraries-rewired-conference/
LOCATION:CodeNode\, London\, United Kingdom
CATEGORIES:digital creativity,Information and communication technologies,Research and innovation
ATTACH;FMTTYPE=image/png:https://hslg.ie/wp-content/uploads/2023/08/CILIP.png
END:VEVENT
BEGIN:VEVENT
DTSTART;TZID=Europe/Dublin:20231102T080000
DTEND;TZID=Europe/Dublin:20231103T170000
DTSTAMP:20260425T120023
CREATED:20230628T100354Z
LAST-MODIFIED:20230628T100354Z
UID:3062-1698912000-1699030800@hslg.ie
SUMMARY:National Open Research Festival 2023
DESCRIPTION:Ireland’s annual National Open Research Festival (NORFest) provides a forum for the research community to present and discuss work related to Ireland’s transition towards open research. The Festival’s inaugural event aims to bring together a broad range of stakeholders to communicate the value and diversity of open research practices\, to exchange ideas and experiences\, and to identify and explore synergies.
URL:https://hslg.ie/event/national-open-research-festival-2023/
LOCATION:Royal Irish Academy\, 19 Dawson Street\, Dublin\, D02 HH58\, Ireland
ATTACH;FMTTYPE=image/png:https://hslg.ie/wp-content/uploads/2023/06/NORF.png
END:VEVENT
BEGIN:VEVENT
DTSTART;VALUE=DATE:20231102
DTEND;VALUE=DATE:20231104
DTSTAMP:20260425T120023
CREATED:20230811T135506Z
LAST-MODIFIED:20230811T135506Z
UID:3151-1698883200-1699055999@hslg.ie
SUMMARY:International Clinical Librarian Conference
DESCRIPTION:The International Clinical Librarian Conference is back for 2023\, and will be held at College Court\, in Leicester. This event is for clinical librarians\, outreach librarians\, information and knowledge specialists\, and all other interested parties. We’re looking forward to seeing you in person to talk about your projects\, new developments in clinical librarianship\, and to get back to making connections with each other.
URL:https://hslg.ie/event/international-clinical-librarian-conference/
LOCATION:College Court\, Leicester\, UK\, United Kingdom
ATTACH;FMTTYPE=image/png:https://hslg.ie/wp-content/uploads/2023/08/ICLC.png
END:VEVENT
BEGIN:VEVENT
DTSTART;TZID=Europe/Dublin:20231026T130000
DTEND;TZID=Europe/Dublin:20231026T140000
DTSTAMP:20260425T120023
CREATED:20230803T135150Z
LAST-MODIFIED:20230803T135150Z
UID:3117-1698325200-1698328800@hslg.ie
SUMMARY:Nikita Burke - Evidence Synthesis Ireland – what can we do for you?
DESCRIPTION:Evidence Synthesis Ireland\, which includes Cochrane Ireland\, aims to build evidence synthesis knowledge\, awareness and capacity among the public\, health care institutions and policymakers\, clinicians\, and researchers on the island of Ireland. We do this through 1) Training & Education; 2) Support & Network; and 3) Research & Innovation. Join us in this webinar as we explore the training programs\, webinars and Fellowships designed to equip our audience with the essential skills for evidence synthesis. Discover the enriching experience of our Fellowships\, where participants gain hands-on exposure to cutting-edge methodologies and one-to-one mentorship. Whether you are a researcher\, policymaker\, or practitioner\, we have courses that cater to all levels of expertise\, enabling you to become proficient in navigating the world of evidence synthesis. We’ll also introduce our other initiatives\, such as Communicating with the Public mentorship scheme or\, the Study Within A Review (SWAR) Award that you can get involved in. We want to hear from you – so we’ll have a live Q&A session to answer your questions or hear your suggestions.
URL:https://hslg.ie/event/nikita-burke-evidence-synthesis-ireland-what-can-we-do-for-you/
LOCATION:Online
CATEGORIES:Information resources management,Research and innovation
ATTACH;FMTTYPE=image/png:https://hslg.ie/wp-content/uploads/2023/08/Evidence_Synthesis_Ireland.png
END:VEVENT
BEGIN:VEVENT
DTSTART;TZID=Europe/Dublin:20230921T163000
DTEND;TZID=Europe/Dublin:20230921T173000
DTSTAMP:20260425T120023
CREATED:20230804T080824Z
LAST-MODIFIED:20230821T141752Z
UID:3131-1695313800-1695317400@hslg.ie
SUMMARY:Graphic design for librarians
DESCRIPTION:The HSLG committee are delighted to announce an upcoming free online webinar via Zoom on graphic design for librarians by Diana K. Wakimoto. \nThursday 21 September at 4.30 – 5.30pm \nFrom the layout of a library’s web banner to its printed newsletter\, libraries make their visual identities known through the many forms of communication they produce and share. And even if “graphic designer” isn’t technically in your job description\, chances are you’re still doing it. Wouldn’t you like to do it better? \nRegister on Eventbrite here
URL:https://hslg.ie/event/graphic-design-for-librarians/
LOCATION:Online
CATEGORIES:Information and communication technologies,Information needs and user services
ATTACH;FMTTYPE=image/png:https://hslg.ie/wp-content/uploads/2023/08/Graphic.png
END:VEVENT
BEGIN:VEVENT
DTSTART;TZID=Europe/Dublin:20230915T120000
DTEND;TZID=Europe/Dublin:20230915T130000
DTSTAMP:20260425T120023
CREATED:20230623T123846Z
LAST-MODIFIED:20230623T123846Z
UID:3045-1694779200-1694782800@hslg.ie
SUMMARY:Introduction to research data management for librarians
DESCRIPTION:LIRG’s Lunchtime Series on research methods \nThe Library and Information Research Group is delighted to bring a series of CPD events during 2023\, which includes a programme of online events introducing LIS practitioners to workplace research and a series of research methods lunchtime webinars. \nEach session will run virtually on Zoom and start at 12pm. \nOur guest speaker for this event is Leo Appleton\, Chair of LIRG and Senior University Teacher\, Information School\, University of Sheffield.
URL:https://hslg.ie/event/introduction-to-research-data-management-for-librarians/
LOCATION:Online
CATEGORIES:Research and innovation
ATTACH;FMTTYPE=image/png:https://hslg.ie/wp-content/uploads/2023/06/LIRG_Lunch_time_series.png
END:VEVENT
BEGIN:VEVENT
DTSTART;TZID=Europe/Dublin:20230901T120000
DTEND;TZID=Europe/Dublin:20230901T130000
DTSTAMP:20260425T120023
CREATED:20230623T123131Z
LAST-MODIFIED:20230623T124013Z
UID:3038-1693569600-1693573200@hslg.ie
SUMMARY:Statistical analysis for LIS researchers
DESCRIPTION:LIRG’s Research Methods: Lunchtime Series. \nThe Library and Information Research Group is delighted to bring a series of CPD events during 2023\, which includes a programme of online events introducing LIS practitioners to workplace research and a series of research methods lunchtime webinars. \nEach session will run virtually on Zoom and start at 12pm. \nThis event is part of LIRG’s Lunchtime Series on research methods. Our guest speaker for this event is Leo Appleton\, Chair of LIRG and Senior University Teacher\, Information School\, University of Sheffield.
URL:https://hslg.ie/event/statistical-analysis-for-lis-researchers/
LOCATION:Online
CATEGORIES:Research and innovation
ATTACH;FMTTYPE=image/png:https://hslg.ie/wp-content/uploads/2023/06/LIRG_Lunch_time_series.png
END:VEVENT
BEGIN:VEVENT
DTSTART;TZID=Europe/Dublin:20230821T080000
DTEND;TZID=Europe/Dublin:20230825T170000
DTSTAMP:20260425T120023
CREATED:20230622T133627Z
LAST-MODIFIED:20230622T133627Z
UID:3001-1692604800-1692982800@hslg.ie
SUMMARY:IFLA WLIC 2023
DESCRIPTION:The World Library and Information Congress will take place in Rotterdam\, 21–25 August 2023. See the congress website for information on registering and the programme.
URL:https://hslg.ie/event/ifla-wlic-2023/
LOCATION:Rotterdam Ahoy Convention Centre\, Ahoyweg 10\, 3084 BA Rotterdam
CATEGORIES:Foundations of LIS profession
ATTACH;FMTTYPE=image/png:https://hslg.ie/wp-content/uploads/2023/06/IFLA_WLIC-2023.png
END:VEVENT
END:VCALENDAR