BEGIN:VCALENDAR
VERSION:2.0
PRODID:-//Health Sciences Libraries Group - ECPv6.15.20//NONSGML v1.0//EN
CALSCALE:GREGORIAN
METHOD:PUBLISH
X-WR-CALNAME:Health Sciences Libraries Group
X-ORIGINAL-URL:https://hslg.ie
X-WR-CALDESC:Events for Health Sciences Libraries Group
REFRESH-INTERVAL;VALUE=DURATION:PT1H
X-Robots-Tag:noindex
X-PUBLISHED-TTL:PT1H
BEGIN:VTIMEZONE
TZID:Europe/Dublin
BEGIN:STANDARD
TZOFFSETFROM:+0000
TZOFFSETTO:+0100
TZNAME:IST
DTSTART:20250330T010000
END:STANDARD
BEGIN:DAYLIGHT
TZOFFSETFROM:+0100
TZOFFSETTO:+0000
TZNAME:GMT
DTSTART:20251026T010000
END:DAYLIGHT
BEGIN:STANDARD
TZOFFSETFROM:+0000
TZOFFSETTO:+0100
TZNAME:IST
DTSTART:20260329T010000
END:STANDARD
BEGIN:DAYLIGHT
TZOFFSETFROM:+0100
TZOFFSETTO:+0000
TZNAME:GMT
DTSTART:20261025T010000
END:DAYLIGHT
BEGIN:STANDARD
TZOFFSETFROM:+0000
TZOFFSETTO:+0100
TZNAME:IST
DTSTART:20270328T010000
END:STANDARD
BEGIN:DAYLIGHT
TZOFFSETFROM:+0100
TZOFFSETTO:+0000
TZNAME:GMT
DTSTART:20271031T010000
END:DAYLIGHT
END:VTIMEZONE
BEGIN:VEVENT
DTSTART;TZID=Europe/Dublin:20260422T130000
DTEND;TZID=Europe/Dublin:20260429T160000
DTSTAMP:20260421T095855
CREATED:20260416T140648Z
LAST-MODIFIED:20260416T140648Z
UID:5567-1776862800-1777478400@hslg.ie
SUMMARY:Searching for Systematic Reviews: Advanced Design Methods Course
DESCRIPTION:Join Julie Glanville & Carol Lefebvre online over 2 days on April 22nd & 29th. \nThis course will look at advanced methods for search strategy design for systematic reviews and other evidence syntheses. Participants will learn how to structure and build search strategies using a range of techniques and for a range of review questions. An official Instats certificate of completion and 1 ECTS equivalent point are provided at the conclusion of the training. \n\n\n\n\n\n\n\n\n\n\nDay 1: Advanced Design Methods for PICO Questions\n\n\n\n• Text mining\n\n\n\n\n• Boolean operators\n\n\n\n\n• Term identification\n\n\n\n\n• PICO\n\n\n\n\n• Strategy design\n\n\n\n\n• AI\n\n\n\n\n• Term identification\n\n\n\n\n• Search strategies\n\n\n\n\n• Search filters\n\n\n\n\n• Search hedges\n\n\n\n\n• PICO\n\n\n\n\n• Strategy design\n\n\n\n\n\n\n\n\n\n\n\n\n\n\nDay 2: Design Methods for Complex Questions and Searches\n\n\n\n• AI\n\n\n\n\n• Complex questions\n\n\n\n\n• Complex searches\n\n\n\n\n• Strategy design\n\n\n\n\n• Citation analysis\n\n\n\n\n• Combined search approaches\n\n\n\n\n• Complex questions\n\n\n\n\n• Multistanded searches\n\n\n\n\n• Complex searches\n\n\n\n\n• Strategy design\n\n\n\n\n• Guidance\n\n\n\n\n• Non-PICO questions\n\n\nTo book your place click here.
URL:https://hslg.ie/event/searching-for-systematic-reviews-advanced-design-methods-course/
LOCATION:Online
CATEGORIES:Information in society and health care,Information needs and user services,Research and innovation
ATTACH;FMTTYPE=image/jpeg:https://hslg.ie/wp-content/uploads/2025/02/Instats.jpg
END:VEVENT
BEGIN:VEVENT
DTSTART;TZID=Europe/Dublin:20260428T100000
DTEND;TZID=Europe/Dublin:20260428T110000
DTSTAMP:20260421T095855
CREATED:20260417T121012Z
LAST-MODIFIED:20260417T121012Z
UID:5578-1777370400-1777374000@hslg.ie
SUMMARY:The Evidence Review Accelerator (TERA) – Helpful Tools and Tips for Information Specialists
DESCRIPTION:This workshop will show participants how to use the Evidence Review Accelerator (TERA) to improve the speed and quality of conducting systematic reviews. This workshop will cover all tools\, but will focus on the tools most helpful for information specialists. The workshop will comprise live demonstrations of TERA\, conducted by Justin Clark\, developer of TERA\, the Two-Week Systematic Review (2weekSR) methodology and experienced Information Specialist. The expert skills of the presenter in both conducting reviews and using the tools are a key component of the workshop. \nAll the tools in the workshop are free and available via TERA: https://tera-tools.com/ \nThe workshop will comprise the following plan: \n\nBrief introduction to TERA.\nDemonstration of creating focused searches using the Word Frequency Analyser\, SearchRefiner\, Polyglot Search Translator and the Deduplicator.\nDemonstration of Generative AI-powered screening using MechaScreener.\nDemonstration of citation searching with SpiderCite.\nUsing TERA Farmer to identify any further relevant studies missed by the database and citation search.\n\nRegister here to attend.
URL:https://hslg.ie/event/the-evidence-review-accelerator-tera-helpful-tools-and-tips-for-information-specialists/
LOCATION:Online
CATEGORIES:Information in society and health care,Information needs and user services,Research and innovation
ATTACH;FMTTYPE=image/png:https://hslg.ie/wp-content/uploads/2026/04/HTAi.png
END:VEVENT
END:VCALENDAR