BEGIN:VCALENDAR
VERSION:2.0
PRODID:-//Health Sciences Libraries Group - ECPv6.15.20//NONSGML v1.0//EN
CALSCALE:GREGORIAN
METHOD:PUBLISH
X-WR-CALNAME:Health Sciences Libraries Group
X-ORIGINAL-URL:https://hslg.ie
X-WR-CALDESC:Events for Health Sciences Libraries Group
REFRESH-INTERVAL;VALUE=DURATION:PT1H
X-Robots-Tag:noindex
X-PUBLISHED-TTL:PT1H
BEGIN:VTIMEZONE
TZID:Europe/Dublin
BEGIN:STANDARD
TZOFFSETFROM:+0000
TZOFFSETTO:+0100
TZNAME:IST
DTSTART:20250330T010000
END:STANDARD
BEGIN:DAYLIGHT
TZOFFSETFROM:+0100
TZOFFSETTO:+0000
TZNAME:GMT
DTSTART:20251026T010000
END:DAYLIGHT
BEGIN:STANDARD
TZOFFSETFROM:+0000
TZOFFSETTO:+0100
TZNAME:IST
DTSTART:20260329T010000
END:STANDARD
BEGIN:DAYLIGHT
TZOFFSETFROM:+0100
TZOFFSETTO:+0000
TZNAME:GMT
DTSTART:20261025T010000
END:DAYLIGHT
BEGIN:STANDARD
TZOFFSETFROM:+0000
TZOFFSETTO:+0100
TZNAME:IST
DTSTART:20270328T010000
END:STANDARD
BEGIN:DAYLIGHT
TZOFFSETFROM:+0100
TZOFFSETTO:+0000
TZNAME:GMT
DTSTART:20271031T010000
END:DAYLIGHT
END:VTIMEZONE
BEGIN:VEVENT
DTSTART;TZID=Europe/Dublin:20261208T080000
DTEND;TZID=Europe/Dublin:20261210T170000
DTSTAMP:20260425T134156
CREATED:20260224T114735Z
LAST-MODIFIED:20260224T114735Z
UID:5421-1796716800-1796922000@hslg.ie
SUMMARY:2026 Cochrane Colloquium
DESCRIPTION:The Cochrane Colloquium brings together people from around the world to exchange ideas\, share experiences\, and engage in dialogue on the most pressing questions related to evidence generation\, synthesis\, and use across health and beyond. It is a unique forum for collaboration across disciplines\, regions\, and perspectives. \nAs the world of evidence continues to evolve rapidly\, the 2026 Colloquium will provide space to reflect\, connect\, and collectively explore how evidence can best respond to emerging challenges and opportunities while remaining rigorous\, transparent\, inclusive\, and trusted. \n  \nEarly Bird Registration €1300 (until May 11th) \nClick here for more information and to register.
URL:https://hslg.ie/event/2026-cochrane-colloquium/
LOCATION:ICE\, Krakow\, Poland\, Krakow\, Poland
CATEGORIES:Information in society and health care,Information needs and user services,Information resources management,Research and innovation
ATTACH;FMTTYPE=image/png:https://hslg.ie/wp-content/uploads/2019/02/cochrane.png
END:VEVENT
END:VCALENDAR